BEGIN:VCALENDAR
VERSION:2.0
PRODID:-//SacRT - ECPv6.15.20//NONSGML v1.0//EN
CALSCALE:GREGORIAN
METHOD:PUBLISH
X-ORIGINAL-URL:https://www.sacrt.com
X-WR-CALDESC:Events for SacRT
REFRESH-INTERVAL;VALUE=DURATION:PT1H
X-Robots-Tag:noindex
X-PUBLISHED-TTL:PT1H
BEGIN:VTIMEZONE
TZID:America/Los_Angeles
BEGIN:DAYLIGHT
TZOFFSETFROM:-0800
TZOFFSETTO:-0700
TZNAME:PDT
DTSTART:20240310T100000
END:DAYLIGHT
BEGIN:STANDARD
TZOFFSETFROM:-0700
TZOFFSETTO:-0800
TZNAME:PST
DTSTART:20241103T090000
END:STANDARD
BEGIN:DAYLIGHT
TZOFFSETFROM:-0800
TZOFFSETTO:-0700
TZNAME:PDT
DTSTART:20250309T100000
END:DAYLIGHT
BEGIN:STANDARD
TZOFFSETFROM:-0700
TZOFFSETTO:-0800
TZNAME:PST
DTSTART:20251102T090000
END:STANDARD
BEGIN:DAYLIGHT
TZOFFSETFROM:-0800
TZOFFSETTO:-0700
TZNAME:PDT
DTSTART:20260308T100000
END:DAYLIGHT
BEGIN:STANDARD
TZOFFSETFROM:-0700
TZOFFSETTO:-0800
TZNAME:PST
DTSTART:20261101T090000
END:STANDARD
END:VTIMEZONE
BEGIN:VEVENT
DTSTART;TZID=America/Los_Angeles:20250507T140000
DTEND;TZID=America/Los_Angeles:20250507T190000
DTSTAMP:20260420T024623
CREATED:20250401T211256Z
LAST-MODIFIED:20250924T210606Z
UID:10000076-1746626400-1746644400@www.sacrt.com
SUMMARY:In-person Hiring Event
DESCRIPTION:Hiring Event Details:  \nWHEN:   \nWednesday\, May 7\, 2025\, from 2 pm- 7 pm \nWHERE:  \nSacRT Administrative Building\, Auditorium \n1400 29th Street \nSacramento\, CA     \nParking: Street parking available    
URL:https://www.sacrt.com/event/in-person-hiring-event/
LOCATION:Sacramento Regional Transit Administrative Office\, 1400 29th St\, Sacramento\, CA 95816\, United States\, Sacramento\, CA\, 95816\, United States
ATTACH;FMTTYPE=image/jpeg:https://www.sacrt.com/wp-content/uploads/jan-Hiring-440x340-1-1.jpg
END:VEVENT
END:VCALENDAR