BEGIN:VCALENDAR
VERSION:2.0
PRODID:-//SacRT - ECPv6.15.20//NONSGML v1.0//EN
CALSCALE:GREGORIAN
METHOD:PUBLISH
X-WR-CALNAME:SacRT
X-ORIGINAL-URL:https://www.sacrt.com
X-WR-CALDESC:Events for SacRT
REFRESH-INTERVAL;VALUE=DURATION:PT1H
X-Robots-Tag:noindex
X-PUBLISHED-TTL:PT1H
BEGIN:VTIMEZONE
TZID:America/Los_Angeles
BEGIN:DAYLIGHT
TZOFFSETFROM:-0800
TZOFFSETTO:-0700
TZNAME:PDT
DTSTART:20240310T100000
END:DAYLIGHT
BEGIN:STANDARD
TZOFFSETFROM:-0700
TZOFFSETTO:-0800
TZNAME:PST
DTSTART:20241103T090000
END:STANDARD
BEGIN:DAYLIGHT
TZOFFSETFROM:-0800
TZOFFSETTO:-0700
TZNAME:PDT
DTSTART:20250309T100000
END:DAYLIGHT
BEGIN:STANDARD
TZOFFSETFROM:-0700
TZOFFSETTO:-0800
TZNAME:PST
DTSTART:20251102T090000
END:STANDARD
BEGIN:DAYLIGHT
TZOFFSETFROM:-0800
TZOFFSETTO:-0700
TZNAME:PDT
DTSTART:20260308T100000
END:DAYLIGHT
BEGIN:STANDARD
TZOFFSETFROM:-0700
TZOFFSETTO:-0800
TZNAME:PST
DTSTART:20261101T090000
END:STANDARD
END:VTIMEZONE
BEGIN:VEVENT
DTSTART;TZID=America/Los_Angeles:20251121T100000
DTEND;TZID=America/Los_Angeles:20251121T120000
DTSTAMP:20260423T053228
CREATED:20250519T203143Z
LAST-MODIFIED:20250519T203143Z
UID:10000087-1763719200-1763726400@www.sacrt.com
SUMMARY:San Joaquin Joint Powers Authority Board Meeting
DESCRIPTION:Robert J. Cabral Station\, Board Room\, \n949 East Channel Street \nStockton\, CA 95202 \n  \nSite link with virtual meeting information linked in venue description below.
URL:https://www.sacrt.com/event/san-joaquin-joint-powers-authority-board-meeting-4/
LOCATION:Robert J. Cabral Station\, Board Room\, 949 East Channel Street\,\, Stockton\, CA\, 95202
CATEGORIES:Partner Meetings
END:VEVENT
BEGIN:VEVENT
DTSTART;TZID=America/Los_Angeles:20251119T100000
DTEND;TZID=America/Los_Angeles:20251119T123000
DTSTAMP:20260423T053229
CREATED:20250515T213003Z
LAST-MODIFIED:20250515T213003Z
UID:10000080-1763546400-1763555400@www.sacrt.com
SUMMARY:Capitol Corridor Joint Powers Authority Board Meeting
DESCRIPTION:Oakland\, BART Headquarters \n2150 Webster St. 1st Floor \nOakland\, CA 94612 \n  \nSite link with virtual meeting information linked in venue description below.
URL:https://www.sacrt.com/event/capitol-corridor-joint-powers-authority-board-meeting-2/
LOCATION:Oakland\, BART Headquarters\, 2150 Webster St. 1st Floor\, Oakland\, CA\, 94612
CATEGORIES:Partner Meetings
END:VEVENT
BEGIN:VEVENT
DTSTART;TZID=America/Los_Angeles:20250919T100000
DTEND;TZID=America/Los_Angeles:20250919T120000
DTSTAMP:20260423T053229
CREATED:20250519T202857Z
LAST-MODIFIED:20250519T202857Z
UID:10000086-1758276000-1758283200@www.sacrt.com
SUMMARY:San Joaquin Joint Powers Authority Board Meeting
DESCRIPTION:SJJPA Board Meeting \nMartinez\, CA \n  \nSite link with virtual meeting information linked in venue description below.
URL:https://www.sacrt.com/event/san-joaquin-joint-powers-authority-board-meeting-3/
LOCATION:Martinez\, CA
CATEGORIES:Partner Meetings
END:VEVENT
BEGIN:VEVENT
DTSTART;TZID=America/Los_Angeles:20250917T100000
DTEND;TZID=America/Los_Angeles:20250917T123000
DTSTAMP:20260423T053229
CREATED:20250519T202403Z
LAST-MODIFIED:20250519T202410Z
UID:10000083-1758103200-1758112200@www.sacrt.com
SUMMARY:Capitol Corridor Joint Powers Authority Board Meeting
DESCRIPTION:Solano Transportation Authority \n423 Main St. \nSuisun City\, CA 94585 \n  \nSite link with virtual meeting information linked in venue description below.
URL:https://www.sacrt.com/event/capitol-corridor-joint-powers-authority-board-meeting-3/
LOCATION:Solano Transportation Authority\, 423 Main Street\, Suisun City\, CA\, 94585\, United States
CATEGORIES:Partner Meetings
END:VEVENT
BEGIN:VEVENT
DTSTART;TZID=America/Los_Angeles:20250718T100000
DTEND;TZID=America/Los_Angeles:20250718T123000
DTSTAMP:20260423T053229
CREATED:20250515T213336Z
LAST-MODIFIED:20250515T213336Z
UID:10000082-1752832800-1752841800@www.sacrt.com
SUMMARY:San Joaquin Joint Powers Authority Board Meeting
DESCRIPTION:Friday\, May 16\, 2025 10:30 am\nRobert J. Cabral Station\nBoard Room\n949 E. Channel Street\nStockton\, CA 95202 \nSite link with virtual meeting information linked in venue description below.
URL:https://www.sacrt.com/event/san-joaquin-joint-powers-authority-board-meeting-2/
LOCATION:Robert J. Cabral Station\, Board Room\, 949 East Channel Street\,\, Stockton\, CA\, 95202
CATEGORIES:Partner Meetings
END:VEVENT
BEGIN:VEVENT
DTSTART;TZID=America/Los_Angeles:20250618T100000
DTEND;TZID=America/Los_Angeles:20250618T123000
DTSTAMP:20260423T053229
CREATED:20250515T212622Z
LAST-MODIFIED:20250515T212622Z
UID:10000079-1750240800-1750249800@www.sacrt.com
SUMMARY:Capitol Corridor Joint Powers Authority Board Meeting
DESCRIPTION:Oakland\, BART Headquarters \n2150 Webster St. 1st Floor \nOakland\, CA 94612 \n  \nSite link with virtual meeting information linked in venue description below.
URL:https://www.sacrt.com/event/capitol-corridor-joint-powers-authority-board-meeting/
LOCATION:Oakland\, BART Headquarters\, 2150 Webster St. 1st Floor\, Oakland\, CA\, 94612
CATEGORIES:Partner Meetings
END:VEVENT
BEGIN:VEVENT
DTSTART;TZID=America/Los_Angeles:20250519T093000
DTEND;TZID=America/Los_Angeles:20250519T113000
DTSTAMP:20260423T053229
CREATED:20250519T203658Z
LAST-MODIFIED:20250519T203658Z
UID:10000089-1747647000-1747654200@www.sacrt.com
SUMMARY:Sacramento-Placerville Transportation Corridor Joint Powers Authority Board Meeting
DESCRIPTION:Folsom City Hall\, Council Chambers​ \n50 Natoma Street \nFolsom\, CA \n  \nSite link with virtual meeting information linked in venue description below.
URL:https://www.sacrt.com/event/sacramento-placerville-transportation-corridor-joint-powers-authority-board-meeting/
LOCATION:Folsom City Hall\, 50 Natoma Street\, Folsom\, CA\, 95630\, United States
CATEGORIES:Partner Meetings
END:VEVENT
BEGIN:VEVENT
DTSTART;TZID=America/Los_Angeles:20250516T103000
DTEND;TZID=America/Los_Angeles:20250516T123000
DTSTAMP:20260423T053229
CREATED:20250514T225923Z
LAST-MODIFIED:20250514T225923Z
UID:10000078-1747391400-1747398600@www.sacrt.com
SUMMARY:San Joaquin Joint Powers Authority Board Meeting
DESCRIPTION:Friday\, May 16\, 2025 10:30 am\nRobert J. Cabral Station\nBoard Room\n949 E. Channel Street\nStockton\, CA 95202 \nSite link with virtual meeting information linked in venue description below.
URL:https://www.sacrt.com/event/san-joaquin-joint-powers-authority-board-meeting/
LOCATION:Robert J. Cabral Station\, Board Room\, 949 East Channel Street\,\, Stockton\, CA\, 95202
CATEGORIES:Partner Meetings
END:VEVENT
BEGIN:VEVENT
DTSTART;TZID=America/Los_Angeles:20250416T100000
DTEND;TZID=America/Los_Angeles:20250416T123000
DTSTAMP:20260423T053229
CREATED:20250519T202501Z
LAST-MODIFIED:20250519T202501Z
UID:10000085-1744797600-1744806600@www.sacrt.com
SUMMARY:Capitol Corridor Joint Powers Authority Board Meeting
DESCRIPTION:Solano Transportation Authority \n423 Main St. \nSuisun City\, CA 94585 \n  \nSite link with virtual meeting information linked in venue description below.
URL:https://www.sacrt.com/event/capitol-corridor-joint-powers-authority-board-meeting-4/
LOCATION:Solano Transportation Authority\, 423 Main Street\, Suisun City\, CA\, 94585\, United States
CATEGORIES:Partner Meetings
END:VEVENT
END:VCALENDAR